BEGIN:VCALENDAR
VERSION:2.0
PRODID:-//ACTEAZ - ECPv6.15.20//NONSGML v1.0//EN
CALSCALE:GREGORIAN
METHOD:PUBLISH
X-WR-CALNAME:ACTEAZ
X-ORIGINAL-URL:https://www.acteaz.org
X-WR-CALDESC:Events for ACTEAZ
REFRESH-INTERVAL;VALUE=DURATION:PT1H
X-Robots-Tag:noindex
X-PUBLISHED-TTL:PT1H
BEGIN:VTIMEZONE
TZID:America/Phoenix
BEGIN:STANDARD
TZOFFSETFROM:-0700
TZOFFSETTO:-0700
TZNAME:MST
DTSTART:20220101T000000
END:STANDARD
END:VTIMEZONE
BEGIN:VEVENT
DTSTART;TZID=America/Phoenix:20230622T080000
DTEND;TZID=America/Phoenix:20230622T160000
DTSTAMP:20260421T071040
CREATED:20221130T220729Z
LAST-MODIFIED:20221130T220729Z
UID:22931-1687420800-1687449600@www.acteaz.org
SUMMARY:Using Advisory Councils Effectively
DESCRIPTION:Event Details: \n\nLevel 3\nNo prerequisite\nThis class is designed for all CTE teachers.\n\nAn energetic and involved advisory council can have a significant impact in helping your program and students achieve their goals! This interactive course is designed to ensure success in the formation and use of industry advisory councils. During this course\, you will learn how to form a committee\, conduct useful advisory council meetings and use advisory council members for continuous program improvement. \nNOTE:  There is homework associated with this class to earn 1 ADE credit (15 hours). \nLocation:\nSTART@West-MEC\n5405 N. 99th Ave\nGlendale\, AZ 85305 \nLink: https://pdcircle.west-mec.org/course/view/176 \nDate: June 22\, 2023 \nTime: 8 a.m. – 4 p.m. \nCost: $25
URL:https://www.acteaz.org/courses/using-advisory-councils-effectively-10/
LOCATION:START @ West-MEC – Glendale\, AZ\, 5405 N. 99th Avenue\, Glendale\, AZ\, 85305\, United States
CATEGORIES:Using Advisory Councils Effectively
END:VEVENT
END:VCALENDAR