BEGIN:VCALENDAR
VERSION:2.0
PRODID:-//ACTEAZ - ECPv6.15.20//NONSGML v1.0//EN
CALSCALE:GREGORIAN
METHOD:PUBLISH
X-WR-CALNAME:ACTEAZ
X-ORIGINAL-URL:https://www.acteaz.org
X-WR-CALDESC:Events for ACTEAZ
REFRESH-INTERVAL;VALUE=DURATION:PT1H
X-Robots-Tag:noindex
X-PUBLISHED-TTL:PT1H
BEGIN:VTIMEZONE
TZID:America/Phoenix
BEGIN:STANDARD
TZOFFSETFROM:-0700
TZOFFSETTO:-0700
TZNAME:MST
DTSTART:20220101T000000
END:STANDARD
END:VTIMEZONE
BEGIN:VEVENT
DTSTART;TZID=America/Phoenix:20230220T080000
DTEND;TZID=America/Phoenix:20230220T153000
DTSTAMP:20260421T124534
CREATED:20221214T164222Z
LAST-MODIFIED:20221214T164222Z
UID:22979-1676880000-1676907000@www.acteaz.org
SUMMARY:Using Advisory Councils Effectively
DESCRIPTION:This interactive workshop is designed to ensure success in the formation and use of industry advisory councils. During this workshop you will learn how to form a committee\, how to conduct useful advisory council meetings and how to use advisory council members for continuous program improvement. \n\nFor:  All CTE Teachers\nADE Credit Available:  Yes\n1 Semester Hour (SH) Credit\nSatisfies Professional Knowledge (PK) deficiencies\nCourse Length: 1 day + homework\n\nLocation:\nPima JTED @ Master Pieces\n2855 W. Master Pieces Dr.\nBuilding 1 / PD Classroom\nTucson\, AZ 85741 \nLink: https://infohub.pimajted.org/events/246\nIf you do not have a Pima JTED account\, please contact Mary Andrade at mandrade@pimajted.org or (520) 256-4169. \nDate: February 20\, 2023 \nTime: 8:00 a.m. – 3:30 p.m. \nCost: $100
URL:https://www.acteaz.org/courses/using-advisory-councils-effectively-11/
LOCATION:Pima JTED @ Master Pieces\, 2855 W. Master Pieces Dr.\, Tucson\, AZ\, 85741\, United States
CATEGORIES:Using Advisory Councils Effectively
END:VEVENT
END:VCALENDAR