BEGIN:VCALENDAR
VERSION:2.0
PRODID:-//ACTEAZ - ECPv6.15.20//NONSGML v1.0//EN
CALSCALE:GREGORIAN
METHOD:PUBLISH
X-WR-CALNAME:ACTEAZ
X-ORIGINAL-URL:https://www.acteaz.org
X-WR-CALDESC:Events for ACTEAZ
REFRESH-INTERVAL;VALUE=DURATION:PT1H
X-Robots-Tag:noindex
X-PUBLISHED-TTL:PT1H
BEGIN:VTIMEZONE
TZID:America/Phoenix
BEGIN:STANDARD
TZOFFSETFROM:-0700
TZOFFSETTO:-0700
TZNAME:MST
DTSTART:20210101T000000
END:STANDARD
END:VTIMEZONE
BEGIN:VEVENT
DTSTART;TZID=America/Phoenix:20221105T080000
DTEND;TZID=America/Phoenix:20221105T153000
DTSTAMP:20260421T180913
CREATED:20220617T162531Z
LAST-MODIFIED:20220617T162531Z
UID:22295-1667635200-1667662200@www.acteaz.org
SUMMARY:Using Advisory Councils Effectively
DESCRIPTION:An energetic and involved advisory council can have a significant impact in helping your program and students achieve their goals! This interactive course is designed to ensure success in the formation and use of industry advisory councils. During this course you will learn how to form a committee\, conduct useful advisory council meetings and use advisory council members for continuous program improvement. \nLocation:\nZoom – Upon registration\, you will receive an email with the link to join the Zoom meeting. \nLink: https://infohub.pimajted.org/login?&page=%2Fpages%2Fprofessional_development\nIf you do not have a Pima JTED account\, please contact Mary Andrade at mandrade@pimajted.org or (520) 256-4169. \nDate: November 5\, 2022 \nTime: 8:00 a.m. – 3:30 p.m. \nCost: Pima JTED teacher – no cost\nTeachers outside Pima JTED – $100
URL:https://www.acteaz.org/courses/using-advisory-councils-effectively-8/
LOCATION:Online via Zoom
CATEGORIES:Using Advisory Councils Effectively
END:VEVENT
END:VCALENDAR