BEGIN:VCALENDAR
VERSION:2.0
PRODID:-//ACTEAZ - ECPv6.15.20//NONSGML v1.0//EN
CALSCALE:GREGORIAN
METHOD:PUBLISH
X-WR-CALNAME:ACTEAZ
X-ORIGINAL-URL:https://www.acteaz.org
X-WR-CALDESC:Events for ACTEAZ
REFRESH-INTERVAL;VALUE=DURATION:PT1H
X-Robots-Tag:noindex
X-PUBLISHED-TTL:PT1H
BEGIN:VTIMEZONE
TZID:America/Phoenix
BEGIN:STANDARD
TZOFFSETFROM:-0700
TZOFFSETTO:-0700
TZNAME:MST
DTSTART:20210101T000000
END:STANDARD
END:VTIMEZONE
BEGIN:VEVENT
DTSTART;TZID=America/Phoenix:20220927T080000
DTEND;TZID=America/Phoenix:20220927T160000
DTSTAMP:20260421T193652
CREATED:20220610T161831Z
LAST-MODIFIED:20220610T161850Z
UID:22206-1664265600-1664294400@www.acteaz.org
SUMMARY:Using Advisory Councils Effectively
DESCRIPTION:An energetic and involved advisory council can have a significant impact in helping your program and students achieve their goals! This interactive course is designed to ensure success in the formation and use of industry advisory councils. During this course\, you will learn how to form a committee\, conduct useful advisory council meetings and use advisory council members for continuous program improvement. \nNOTE:  There is homework associated with this class to earn 1 ADE credit (15 hours). \nCost: $25 \nLocation:\nSTART @ West-MEC\n5405 N. 99th Ave\nGlendale\, AZ 85305 \nLink: https://pdcircle.west-mec.org/course/view/139\nRegistration Opens July 1 \nDate: September 27\, 2022 \nTime: 8:00 a.m. – 4:00 p.m.
URL:https://www.acteaz.org/courses/using-advisory-councils-effectively-7/
LOCATION:START @ West-MEC – Glendale\, AZ\, 5405 N. 99th Avenue\, Glendale\, AZ\, 85305\, United States
CATEGORIES:Using Advisory Councils Effectively
END:VEVENT
END:VCALENDAR