BEGIN:VCALENDAR
VERSION:2.0
PRODID:-//ACTEAZ - ECPv6.15.20//NONSGML v1.0//EN
CALSCALE:GREGORIAN
METHOD:PUBLISH
X-WR-CALNAME:ACTEAZ
X-ORIGINAL-URL:https://www.acteaz.org
X-WR-CALDESC:Events for ACTEAZ
REFRESH-INTERVAL;VALUE=DURATION:PT1H
X-Robots-Tag:noindex
X-PUBLISHED-TTL:PT1H
BEGIN:VTIMEZONE
TZID:America/Phoenix
BEGIN:STANDARD
TZOFFSETFROM:-0700
TZOFFSETTO:-0700
TZNAME:MST
DTSTART:20200101T000000
END:STANDARD
END:VTIMEZONE
BEGIN:VEVENT
DTSTART;TZID=America/Phoenix:20211130T080000
DTEND;TZID=America/Phoenix:20211130T153000
DTSTAMP:20260422T152612
CREATED:20210526T183700Z
LAST-MODIFIED:20210526T183700Z
UID:20101-1638259200-1638286200@www.acteaz.org
SUMMARY:Using Advisory Councils Effectively
DESCRIPTION:An energetic and involved advisory council can have a significant impact in helping your program and students achieve their goals! This interactive course is designed to ensure success in the formation and use of industry advisory councils. During this course you will learn how to form a committee\, conduct useful advisory council meetings and use advisory council members for continuous program improvement.
URL:https://www.acteaz.org/courses/using-advisory-councils-effectively-4/
LOCATION:Online via Zoom
CATEGORIES:Using Advisory Councils Effectively
END:VEVENT
END:VCALENDAR