BEGIN:VCALENDAR
VERSION:2.0
PRODID:-//ACTEAZ - ECPv6.15.20//NONSGML v1.0//EN
CALSCALE:GREGORIAN
METHOD:PUBLISH
X-WR-CALNAME:ACTEAZ
X-ORIGINAL-URL:https://www.acteaz.org
X-WR-CALDESC:Events for ACTEAZ
REFRESH-INTERVAL;VALUE=DURATION:PT1H
X-Robots-Tag:noindex
X-PUBLISHED-TTL:PT1H
BEGIN:VTIMEZONE
TZID:America/Phoenix
BEGIN:STANDARD
TZOFFSETFROM:-0700
TZOFFSETTO:-0700
TZNAME:MST
DTSTART:20230101T000000
END:STANDARD
END:VTIMEZONE
BEGIN:VEVENT
DTSTART;VALUE=DATE:20240530
DTEND;VALUE=DATE:20240601
DTSTAMP:20260421T143701
CREATED:20231103T225434Z
LAST-MODIFIED:20231103T225434Z
UID:24497-1717027200-1717199999@www.acteaz.org
SUMMARY:Strategic Planning (Two-Day Course)
DESCRIPTION:We all know that truly great CTE programs are the result of stellar planning. Plan for success\, and enroll in the Strategic Planning course. You’ll learn how leaders develop compelling plans and execute those plans in a way that empowers all involved. This course is designed to help participants develop a strategic/tactical plan for their CTE program. Participants will learn the strategic planning process and apply that knowledge to the development of a plan for their program. \nThis Premier Series Course is only available to CURRENT High School Career and Technical teachers. \nADE Credit Available: Yes – 1 Semester Hour (SH) Credit\, Satisfies Professional Knowledge (PK) deficiencies \nCourse Length: 2 days\, no homework \nDate: May 30 – 31\, 2024 \nTime:  8:00 a.m. – 3:30 p.m. each day \nLocation: \nPima JTED @ Master Pieces\nBuilding 1 – PD Classroom\n2855 W Master Pieces Drive\nTucson\, Arizona 85741 \nLink: https://infohub.pimajted.org/login?&page=%2Fmain%2F \nIf you do not have a Pima JTED account\, please contact Mary Andrade at mandrade@pimajted.org or (520) 256-4169.
URL:https://www.acteaz.org/courses/strategic-planning-two-day-course/
LOCATION:Pima JTED @ Master Pieces\, 2855 W. Master Pieces Dr.\, Tucson\, AZ\, 85741\, United States
CATEGORIES:Strategic Planning
END:VEVENT
END:VCALENDAR