BEGIN:VCALENDAR
VERSION:2.0
PRODID:-//ACTEAZ - ECPv6.15.20//NONSGML v1.0//EN
CALSCALE:GREGORIAN
METHOD:PUBLISH
X-WR-CALNAME:ACTEAZ
X-ORIGINAL-URL:https://www.acteaz.org
X-WR-CALDESC:Events for ACTEAZ
REFRESH-INTERVAL;VALUE=DURATION:PT1H
X-Robots-Tag:noindex
X-PUBLISHED-TTL:PT1H
BEGIN:VTIMEZONE
TZID:America/Phoenix
BEGIN:STANDARD
TZOFFSETFROM:-0700
TZOFFSETTO:-0700
TZNAME:MST
DTSTART:20200101T000000
END:STANDARD
END:VTIMEZONE
BEGIN:VEVENT
DTSTART;TZID=America/Phoenix:20210607T080000
DTEND;TZID=America/Phoenix:20210607T153000
DTSTAMP:20260424T004636
CREATED:20201221T200725Z
LAST-MODIFIED:20210429T160316Z
UID:17010-1623052800-1623079800@www.acteaz.org
SUMMARY:Strategic Planning
DESCRIPTION:A clearly defined strategic plan serves as a road map to get your CTE program where it needs to be! This course is designed to help participants develop a strategic/tactical plan with guided support through the analysis process\, assistance with establishing goals\, identification of strategies and use of metrics to measure success. \n\nInstructor:  Curt Bertelsen\nFor: All CTE Teachers\nADE Credit Available:  Yes\nOne Semester Hour (SH) Credit\nSatisfies Professional Knowledge\n(PK) deficiencies\n\n\nCourse Length: 2 days no homework\n\n\nSpring 2021\n\n\n\n\nDates:\nThis course has no spring dates\n\n\n\n\nSummer 2021\n\n\n\n\nDates:\nJune 7-8\, 2021\n(Two-day course)\n\n\n\nTime: 8:00 a.m. – 3:30 p.m. each day with a 30-minute lunch
URL:https://www.acteaz.org/courses/strategic-planning/2021-06-07/
LOCATION:Online via Zoom
CATEGORIES:Strategic Planning
END:VEVENT
END:VCALENDAR