BEGIN:VCALENDAR
VERSION:2.0
PRODID:-//ACTEAZ - ECPv6.15.20//NONSGML v1.0//EN
CALSCALE:GREGORIAN
METHOD:PUBLISH
X-ORIGINAL-URL:https://www.acteaz.org
X-WR-CALDESC:Events for ACTEAZ
REFRESH-INTERVAL;VALUE=DURATION:PT1H
X-Robots-Tag:noindex
X-PUBLISHED-TTL:PT1H
BEGIN:VTIMEZONE
TZID:America/Phoenix
BEGIN:STANDARD
TZOFFSETFROM:-0700
TZOFFSETTO:-0700
TZNAME:MST
DTSTART:20210101T000000
END:STANDARD
END:VTIMEZONE
BEGIN:VEVENT
DTSTART;TZID=America/Phoenix:20220609T080000
DTEND;TZID=America/Phoenix:20220609T153000
DTSTAMP:20260423T044027
CREATED:20211217T194557Z
LAST-MODIFIED:20220321T201317Z
UID:21499-1654761600-1654788600@www.acteaz.org
SUMMARY:Strategic Planning
DESCRIPTION:A clearly defined strategic plan serves as a road map to get your CTE program where it needs to be! This course is designed to help participants develop a strategic/tactical plan with guided support through the analysis process\, assistance with establishing goals\, identification of strategies and use of metrics to measure success. \nThere will be homework for this course. \nLocation:\nZoom – Upon registration\, you will receive an email with the link to join the Zoom meeting. \nLink: https://infohub.pimajted.org/events/168\nIf you do not have a Pima JTED account\, please contact Mary Andrade at mandrade@pimajted.org or (520) 256-4169. \nDate: June 9\, 2022 \nTime: 8:00 a.m. – 3:30 p.m. \nCost: Pima JTED teacher – no cost\nTeachers outside Pima JTED – $100
URL:https://www.acteaz.org/courses/strategic-planning-3/
LOCATION:Online via Zoom
CATEGORIES:Strategic Planning
END:VEVENT
END:VCALENDAR