BEGIN:VCALENDAR
VERSION:2.0
PRODID:-//ACTEAZ - ECPv6.15.20//NONSGML v1.0//EN
CALSCALE:GREGORIAN
METHOD:PUBLISH
X-ORIGINAL-URL:https://www.acteaz.org
X-WR-CALDESC:Events for ACTEAZ
REFRESH-INTERVAL;VALUE=DURATION:PT1H
X-Robots-Tag:noindex
X-PUBLISHED-TTL:PT1H
BEGIN:VTIMEZONE
TZID:America/Phoenix
BEGIN:STANDARD
TZOFFSETFROM:-0700
TZOFFSETTO:-0700
TZNAME:MST
DTSTART:20220101T000000
END:STANDARD
END:VTIMEZONE
BEGIN:VEVENT
DTSTART;VALUE=DATE:20231106
DTEND;VALUE=DATE:20231108
DTSTAMP:20260423T032324
CREATED:20230628T162750Z
LAST-MODIFIED:20230628T162750Z
UID:23957-1699228800-1699401599@www.acteaz.org
SUMMARY:Scope and Sequence
DESCRIPTION:08:00 Monday\, November 6 – 15:30 Tuesday\, November 7 \nDeveloping a scope and sequence is an important first step in delivering an effective CTE program! In this hands-on course CTE teachers will have an opportunity to look at the overall scope of their program to identify what students need to know and be able to do in order to meet industry demands. You will examine your program standards and design a sequence of instructional units to assist you in getting students where they need to be. The final product? A scope and sequence that is designed specifically for your program by you! \nADE Credit Available: Yes – 1 Semester Hour (SH)Credit Satisfies Professional Knowledge (PK) deficiencies \nCourse Length: 2 days no homework \nTime:  8:00 a.m. – 3:30 p.m. each day with a 30-minute lunch \nNOTE:  Course Registration Deadline is Friday\, October 27\, 2023 at 3:00 p.m. \nLocation:\nPima JTED @ Master Pieces\nBuilding 1 – PD Classroom\n2855 W Master Pieces Drive\nTucson\, Arizona 85741 \nLink: https://infohub.pimajted.org/login?&page=%2Fevents%2F296 \nIf you do not have a Pima JTED account\, please contact Mary Andrade at mandrade@pimajted.org or (520) 256-4169.
URL:https://www.acteaz.org/courses/scope-and-sequence-11/
LOCATION:Pima JTED @ Master Pieces\, 2855 W. Master Pieces Dr.\, Tucson\, AZ\, 85741\, United States
CATEGORIES:Scope and Sequence
END:VEVENT
END:VCALENDAR