BEGIN:VCALENDAR
VERSION:2.0
PRODID:-//ACTEAZ - ECPv6.15.20//NONSGML v1.0//EN
CALSCALE:GREGORIAN
METHOD:PUBLISH
X-WR-CALNAME:ACTEAZ
X-ORIGINAL-URL:https://www.acteaz.org
X-WR-CALDESC:Events for ACTEAZ
REFRESH-INTERVAL;VALUE=DURATION:PT1H
X-Robots-Tag:noindex
X-PUBLISHED-TTL:PT1H
BEGIN:VTIMEZONE
TZID:America/Phoenix
BEGIN:STANDARD
TZOFFSETFROM:-0700
TZOFFSETTO:-0700
TZNAME:MST
DTSTART:20220101T000000
END:STANDARD
END:VTIMEZONE
BEGIN:VEVENT
DTSTART;VALUE=DATE:20230411
DTEND;VALUE=DATE:20230413
DTSTAMP:20260423T153219
CREATED:20221214T165738Z
LAST-MODIFIED:20221214T165738Z
UID:22993-1681171200-1681343999@www.acteaz.org
SUMMARY:Scope and Sequence
DESCRIPTION:Developing a scope and sequence is an important first step in delivering an effective CTE program! In this hands-on course CTE teachers will have an opportunity to look at the overall scope of their program to identify what students need to know and be able to do in order to meet industry demands.  You will examine your program standards and design a sequence of instructional units to assist you in getting students where they need to be.  The final product?  A scope and sequence that is designed specifically for your program by you! \nLocation:\nPima JTED @ Master Pieces\n2855 W. Master Pieces Dr.\nBuilding 1 / PD Classroom\nTucson\, AZ 85741 \nLink: https://infohub.pimajted.org/events/253\nIf you do not have a Pima JTED account\, please contact Mary Andrade at mandrade@pimajted.org or (520) 256-4169. \nDate: April 11 – 12\, 2023 \nTime: 8:00 a.m. – 3:30 p.m. \nCost: $100
URL:https://www.acteaz.org/courses/scope-and-sequence-8/
LOCATION:Online via Zoom
CATEGORIES:Scope and Sequence
END:VEVENT
END:VCALENDAR