BEGIN:VCALENDAR
VERSION:2.0
PRODID:-//ACTEAZ - ECPv6.15.20//NONSGML v1.0//EN
CALSCALE:GREGORIAN
METHOD:PUBLISH
X-WR-CALNAME:ACTEAZ
X-ORIGINAL-URL:https://www.acteaz.org
X-WR-CALDESC:Events for ACTEAZ
REFRESH-INTERVAL;VALUE=DURATION:PT1H
X-Robots-Tag:noindex
X-PUBLISHED-TTL:PT1H
BEGIN:VTIMEZONE
TZID:America/Phoenix
BEGIN:STANDARD
TZOFFSETFROM:-0700
TZOFFSETTO:-0700
TZNAME:MST
DTSTART:20200101T000000
END:STANDARD
END:VTIMEZONE
BEGIN:VEVENT
DTSTART;TZID=America/Phoenix:20210617T080000
DTEND;TZID=America/Phoenix:20210617T153000
DTSTAMP:20260425T051551
CREATED:20210528T131556Z
LAST-MODIFIED:20210528T131556Z
UID:20111-1623916800-1623943800@www.acteaz.org
SUMMARY:Scope and Sequence
DESCRIPTION:Developing a scope and sequence is an important first step in delivering an effective CTE program! In this hands-on course CTE teachers will have an opportunity to look at the overall scope of their program to identify what students need to know and be able to do in order to meet industry demands.  You will examine your program standards and design a sequence of instructional units to assist you in getting students where they need to be.  The final product?  A scope and sequence that is designed specifically for your program by you!
URL:https://www.acteaz.org/courses/scope-and-sequence-2/2021-06-17/
LOCATION:Online via Zoom
CATEGORIES:Scope and Sequence
END:VEVENT
END:VCALENDAR