BEGIN:VCALENDAR
VERSION:2.0
PRODID:-//ACTEAZ - ECPv6.15.20//NONSGML v1.0//EN
CALSCALE:GREGORIAN
METHOD:PUBLISH
X-WR-CALNAME:ACTEAZ
X-ORIGINAL-URL:https://www.acteaz.org
X-WR-CALDESC:Events for ACTEAZ
REFRESH-INTERVAL;VALUE=DURATION:PT1H
X-Robots-Tag:noindex
X-PUBLISHED-TTL:PT1H
BEGIN:VTIMEZONE
TZID:America/Phoenix
BEGIN:STANDARD
TZOFFSETFROM:-0700
TZOFFSETTO:-0700
TZNAME:MST
DTSTART:20230101T000000
END:STANDARD
END:VTIMEZONE
BEGIN:VEVENT
DTSTART;VALUE=DATE:20241101
DTEND;VALUE=DATE:20241103
DTSTAMP:20260422T053250
CREATED:20240611T202901Z
LAST-MODIFIED:20240611T202901Z
UID:25052-1730419200-1730591999@www.acteaz.org
SUMMARY:Scope and Sequence
DESCRIPTION:Date: November 1st & 2nd\, 2024 \nTime: 8:00 a.m – 4:00 p.m. \nNOTE: Registration for this Premier Series class will close October 18th\, 2024. A PO must be received before you can attend the class. \nScope and Sequence \nCourse Description: \nThis class will allow you to prioritize and organize your program’s curriculum for the school year. This is a two-day class. \nThis class will give you an opportunity to look at the big picture of your program and design it in a way that makes sense. During this class\, you will look at all the standards required to prepare your students to enter the field and begin by deciding the order you will teach each unit of instruction. You will also wrestle with the depth and breadth of instruction for each standard you’ve been tasked with teaching. The final product? A scope and sequence that is custom made by you for you. \nUpon successful completion of the course participants will receive an ADE certificate for 15 professional development clock hours which equates to one (1) semester hour of coursework. \nLocation: Zoom \nCost: $100.00 per participant – Includes all materials. \nLINK: \nhttps://new.login.acteaz.org/registrations/conference/11-1-2-24-scope-sequence
URL:https://www.acteaz.org/courses/scope-and-sequence-13/
LOCATION:Online via Zoom
CATEGORIES:Scope and Sequence
END:VEVENT
END:VCALENDAR