BEGIN:VCALENDAR
VERSION:2.0
PRODID:-//ACTEAZ - ECPv6.15.20//NONSGML v1.0//EN
CALSCALE:GREGORIAN
METHOD:PUBLISH
X-WR-CALNAME:ACTEAZ
X-ORIGINAL-URL:https://www.acteaz.org
X-WR-CALDESC:Events for ACTEAZ
REFRESH-INTERVAL;VALUE=DURATION:PT1H
X-Robots-Tag:noindex
X-PUBLISHED-TTL:PT1H
BEGIN:VTIMEZONE
TZID:America/Phoenix
BEGIN:STANDARD
TZOFFSETFROM:-0700
TZOFFSETTO:-0700
TZNAME:MST
DTSTART:20230101T000000
END:STANDARD
END:VTIMEZONE
BEGIN:VEVENT
DTSTART;VALUE=DATE:20240530
DTEND;VALUE=DATE:20240601
DTSTAMP:20260422T160025
CREATED:20231103T225218Z
LAST-MODIFIED:20231103T225218Z
UID:24495-1717027200-1717199999@www.acteaz.org
SUMMARY:Scope and Sequence (Virtual\, Two-Day Course)
DESCRIPTION:Developing a scope and sequence is an important first step in delivering an effective CTE program! In this hands-on course\, CTE teachers will have an opportunity to look at the overall scope of their program to identify what students need to know and be able to do in order to meet industry demands. You will examine your program standards and design a sequence of instructional units to assist you in getting students where they need to be. The final product? A scope and sequence that is designed specifically for your program by you! \nThis Premier Series Course is only available to CURRENT High School Career and Technical teachers. \nADE Credit Available: Yes – 1 Semester Hour (SH) Credit\, Satisfies Professional Knowledge (PK) deficiencies \nCourse Length: 2 days\, no homework \nDate: May 30 – 31\, 2024 \nTime:  8:00 a.m. – 3:30 p.m. each day \nLocation: Zoom. Upon registration\, you will receive an email with the Zoom meeting link. \nLink: https://infohub.pimajted.org/login?&page=%2Fmain%2F \nIf you do not have a Pima JTED account\, please contact Mary Andrade at mandrade@pimajted.org or (520) 256-4169.
URL:https://www.acteaz.org/courses/scope-and-sequence-two-day-course-2-2/
LOCATION:Online via Zoom
CATEGORIES:Scope and Sequence
END:VEVENT
END:VCALENDAR