BEGIN:VCALENDAR
VERSION:2.0
PRODID:-//ACTEAZ - ECPv6.15.20//NONSGML v1.0//EN
CALSCALE:GREGORIAN
METHOD:PUBLISH
X-WR-CALNAME:ACTEAZ
X-ORIGINAL-URL:https://www.acteaz.org
X-WR-CALDESC:Events for ACTEAZ
REFRESH-INTERVAL;VALUE=DURATION:PT1H
X-Robots-Tag:noindex
X-PUBLISHED-TTL:PT1H
BEGIN:VTIMEZONE
TZID:America/Phoenix
BEGIN:STANDARD
TZOFFSETFROM:-0700
TZOFFSETTO:-0700
TZNAME:MST
DTSTART:20230101T000000
END:STANDARD
END:VTIMEZONE
BEGIN:VEVENT
DTSTART;VALUE=DATE:20240122
DTEND;VALUE=DATE:20240123
DTSTAMP:20260422T021420
CREATED:20230608T180639Z
LAST-MODIFIED:20230608T183151Z
UID:23661-1705881600-1705967999@www.acteaz.org
SUMMARY:Professional Knowledge Assessment Prep Course (PK Test Prep)
DESCRIPTION:Session Dates: January 22 – March 4\, 2024 \n\nLevel 2 CTE Class\nNo prerequisite\nThis class is designed for all CTE teachers who must take the Assessment of Professional Knowledge Test.\n\nThis asynchronous online class allows you to learn at your own pace. You can access lectures\, readings\, and other learning materials to complete assignments and other activities at any time during the six-week period. A significant benefit to asynchronous classes is\, of course\, the flexibility. \nThis course provides an overview of standards and material covered on the NES (formerly AEPA) Professional Knowledge Assessment (Secondary). Participants will engage in discussion and application activities regarding student development and learning\, assessment\, instruction\, the learning environment\, and the professional environment. \nParticipants are required to attend a Zoom Kick-Off Meeting on Monday\, January 22\, from 4-5 pm. Participants must complete one section per week. The class will close on March 4 at midnight. \nUpon successful completion of the course\, which includes submission of homework\, participants will receive an ADE certificate for 15 professional development clock hours\, which equates to one (1) semester hour of coursework. \nLocation: Online \nLink: https://pdcircle.west-mec.org/course/view/310 – Registration opens July 1\, 2023 \nDates: Jan. 22\, 2024 – March 4\, 2024 \nCost: $50
URL:https://www.acteaz.org/courses/professional-knowledge-assessment-prep-course-pk-test-prep-5/
LOCATION:Online via Zoom
CATEGORIES:Professional Knowledge Assessment Course
END:VEVENT
END:VCALENDAR