BEGIN:VCALENDAR
VERSION:2.0
PRODID:-//ACTEAZ - ECPv6.15.20//NONSGML v1.0//EN
CALSCALE:GREGORIAN
METHOD:PUBLISH
X-WR-CALNAME:ACTEAZ
X-ORIGINAL-URL:https://www.acteaz.org
X-WR-CALDESC:Events for ACTEAZ
REFRESH-INTERVAL;VALUE=DURATION:PT1H
X-Robots-Tag:noindex
X-PUBLISHED-TTL:PT1H
BEGIN:VTIMEZONE
TZID:America/Phoenix
BEGIN:STANDARD
TZOFFSETFROM:-0700
TZOFFSETTO:-0700
TZNAME:MST
DTSTART:20220101T000000
END:STANDARD
END:VTIMEZONE
BEGIN:VEVENT
DTSTART;TZID=America/Phoenix:20230306T160000
DTEND;TZID=America/Phoenix:20230306T170000
DTSTAMP:20260422T191740
CREATED:20221130T211803Z
LAST-MODIFIED:20221130T220940Z
UID:22892-1678118400-1678122000@www.acteaz.org
SUMMARY:Professional Knowledge Assessment Prep Course (PK Test Prep) - Online Class
DESCRIPTION:Event Details: \nSession Dates: March 6 – April 17\, 2023 \n\nLevel 2 CTE Class\nNo prerequisite\nThis class is designed for all CTE teachers who must sit for the Assessment of Professional Knowledge Test.\n\nThis asynchronous\, online class allows you to learn at your own pace.  You can access lectures\, readings\, and other learning materials to complete assignments and other activities at any time during this six-week period. A big benefit to asynchronous classes is\, of course\, the flexibility. \nAre you prepared to take AEPA Professional Knowledge Assessment for Secondary Education? This course provides an overview of standards and material covered on the exam.  Participants will engage in discussion and application activities in regard to student development and learning\, assessment\, instruction\, the learning environment\, and the professional environment to prepare for the assessment. \nParticipants will be required to attend a Zoom Kick-Off Meeting on Monday\, March 6 from 4-5 pm. Participants must complete one section per week. The class will close on April 17 at midnight. \nCompletion certificate: 1 ADE credit (15 hours) \nLocation:\nOnline via Zoom \nLink: https://pdcircle.west-mec.org/course/view/185 \nDate: March 6\, 2023 – required Zoom kick-off \nAsynchronous through April 17\, 2023. \nTime: 4 – 5 p.m. \nCost: $25
URL:https://www.acteaz.org/courses/professional-knowledge-assessment-prep-course-pk-test-prep-online-class-2/
LOCATION:Online via Zoom
CATEGORIES:Professional Knowledge Assessment Course
END:VEVENT
END:VCALENDAR