BEGIN:VCALENDAR
VERSION:2.0
PRODID:-//ACTEAZ - ECPv6.15.20//NONSGML v1.0//EN
CALSCALE:GREGORIAN
METHOD:PUBLISH
X-ORIGINAL-URL:https://www.acteaz.org
X-WR-CALDESC:Events for ACTEAZ
REFRESH-INTERVAL;VALUE=DURATION:PT1H
X-Robots-Tag:noindex
X-PUBLISHED-TTL:PT1H
BEGIN:VTIMEZONE
TZID:America/Denver
BEGIN:DAYLIGHT
TZOFFSETFROM:-0700
TZOFFSETTO:-0600
TZNAME:MDT
DTSTART:20190310T090000
END:DAYLIGHT
BEGIN:STANDARD
TZOFFSETFROM:-0600
TZOFFSETTO:-0700
TZNAME:MST
DTSTART:20191103T080000
END:STANDARD
BEGIN:DAYLIGHT
TZOFFSETFROM:-0700
TZOFFSETTO:-0600
TZNAME:MDT
DTSTART:20200308T090000
END:DAYLIGHT
BEGIN:STANDARD
TZOFFSETFROM:-0600
TZOFFSETTO:-0700
TZNAME:MST
DTSTART:20201101T080000
END:STANDARD
BEGIN:DAYLIGHT
TZOFFSETFROM:-0700
TZOFFSETTO:-0600
TZNAME:MDT
DTSTART:20210314T090000
END:DAYLIGHT
BEGIN:STANDARD
TZOFFSETFROM:-0600
TZOFFSETTO:-0700
TZNAME:MST
DTSTART:20211107T080000
END:STANDARD
END:VTIMEZONE
BEGIN:VEVENT
DTSTART;TZID=America/Denver:20201105T160000
DTEND;TZID=America/Denver:20201105T180000
DTSTAMP:20260424T165633
CREATED:20201006T004820Z
LAST-MODIFIED:20210429T160317Z
UID:15802-1604592000-1604599200@www.acteaz.org
SUMMARY:Professional Knowledge Assessment Course
DESCRIPTION:Are you prepared to take AEPA Professional Knowledge Assessment for Secondary Education? This course provides an overview of standards and material covered on the exam. \nParticipants will engage in discussion and application activities in regard to student development and learning\, assessment\, instruction\, the learning environment\, and the professional environment to prepare for the assessment. \nNOTE:  There is homework associated with this class if you wish to earn (1) ADE Credit.  Participants who participate in the course and who complete one follow-up assignment will have the opportunity to earn 15 CEU hours approved by ADE to be used for moving from provisional to standard CTE certificate or for re-certification hours.
URL:https://www.acteaz.org/courses/professional-knowledge-assessment-course/2020-11-05/
LOCATION:Online via Zoom
CATEGORIES:Professional Knowledge Assessment Course
END:VEVENT
END:VCALENDAR