BEGIN:VCALENDAR
VERSION:2.0
PRODID:-//ACTEAZ - ECPv6.15.20//NONSGML v1.0//EN
CALSCALE:GREGORIAN
METHOD:PUBLISH
X-WR-CALNAME:ACTEAZ
X-ORIGINAL-URL:https://www.acteaz.org
X-WR-CALDESC:Events for ACTEAZ
REFRESH-INTERVAL;VALUE=DURATION:PT1H
X-Robots-Tag:noindex
X-PUBLISHED-TTL:PT1H
BEGIN:VTIMEZONE
TZID:America/Phoenix
BEGIN:STANDARD
TZOFFSETFROM:-0700
TZOFFSETTO:-0700
TZNAME:MST
DTSTART:20210101T000000
END:STANDARD
END:VTIMEZONE
BEGIN:VEVENT
DTSTART;TZID=America/Phoenix:20220621T080000
DTEND;TZID=America/Phoenix:20220621T160000
DTSTAMP:20260423T235551
CREATED:20211217T205341Z
LAST-MODIFIED:20211217T205341Z
UID:21526-1655798400-1655827200@www.acteaz.org
SUMMARY:Performance Literacy
DESCRIPTION:Performance Literacy is the partner class for Technical Reading.  You will earn 1 ADE credit by attending both Technical Reading on June 14\, 2021 and this class\, Performance Literacy.  This second course allows teachers to gain a deeper understanding of writing and speaking standards\, identify how they currently use them in their programs\, and determine specific steps they can take to increase their use of these standards as well as their students’ success with them.  The technical literacy standards are skill-driven and a perfect fit for our CTE programs’ focus on career AND college readiness as our students complete their programs. \nLocation:\nSTART @ West-MEC\n5405 N. 99th Ave.\nGlendale\, AZ 85305 \nLink: https://pdcircle.west-mec.org/course/view/114 \nPrice: $25 \nDate: June 21\, 2022 \nTime: 8:00 a.m. – 4:00 p.m.
URL:https://www.acteaz.org/courses/performance-literacy-2/
LOCATION:START @ West-MEC – Glendale\, AZ\, 5405 N. 99th Avenue\, Glendale\, AZ\, 85305\, United States
CATEGORIES:Performance Literacy
END:VEVENT
END:VCALENDAR