BEGIN:VCALENDAR
VERSION:2.0
PRODID:-//ACTEAZ - ECPv6.15.20//NONSGML v1.0//EN
CALSCALE:GREGORIAN
METHOD:PUBLISH
X-WR-CALNAME:ACTEAZ
X-ORIGINAL-URL:https://www.acteaz.org
X-WR-CALDESC:Events for ACTEAZ
REFRESH-INTERVAL;VALUE=DURATION:PT1H
X-Robots-Tag:noindex
X-PUBLISHED-TTL:PT1H
BEGIN:VTIMEZONE
TZID:America/Phoenix
BEGIN:STANDARD
TZOFFSETFROM:-0700
TZOFFSETTO:-0700
TZNAME:MST
DTSTART:20220101T000000
END:STANDARD
END:VTIMEZONE
BEGIN:VEVENT
DTSTART;TZID=America/Phoenix:20230615T080000
DTEND;TZID=America/Phoenix:20230615T160000
DTSTAMP:20260421T124546
CREATED:20221130T220025Z
LAST-MODIFIED:20221130T220025Z
UID:22923-1686816000-1686844800@www.acteaz.org
SUMMARY:Effective Demonstrations
DESCRIPTION:Event Details: \n\nLevel 2\nNo prerequisite\nThis class is designed for all CTE teachers.\n\nPlease bring your device – laptop/tablet/smartphone – to this class. \nWhether in a welding lab or a bioscience lab\, effective demonstrations are crucial. In this course\, teachers will engage in the four-step demonstration method\, which gradually transitions the learning of a new skill from teacher to student\, through effective modeling\, guided instruction and independent practice. If done correctly every student can successfully perform the new skill with little or no frustration\, without wasted materials\, and attain proficiency in a way that will ensure the whole class progresses at an appropriate pace. An added bonus is that students complete the new skill in a safe and supportive environment.  Come and learn this four-part demonstration method! \nNOTE:  There is homework associated with this class to earn 1 ADE credit (15 hours). \nLocation:\nSTART@West-MEC\n5405 N. 99th Ave\nGlendale\, AZ 85305 \nLink: https://pdcircle.west-mec.org/course/view/172 \nDate: June 15\, 2023 \nTime: 8 a.m. – 4 p.m. \nCost: $25
URL:https://www.acteaz.org/courses/effective-demonstrations-8/
LOCATION:START @ West-MEC – Glendale\, AZ\, 5405 N. 99th Avenue\, Glendale\, AZ\, 85305\, United States
CATEGORIES:Effective Demonstrations
END:VEVENT
END:VCALENDAR