BEGIN:VCALENDAR
VERSION:2.0
PRODID:-//ACTEAZ - ECPv6.15.20//NONSGML v1.0//EN
CALSCALE:GREGORIAN
METHOD:PUBLISH
X-ORIGINAL-URL:https://www.acteaz.org
X-WR-CALDESC:Events for ACTEAZ
REFRESH-INTERVAL;VALUE=DURATION:PT1H
X-Robots-Tag:noindex
X-PUBLISHED-TTL:PT1H
BEGIN:VTIMEZONE
TZID:America/Phoenix
BEGIN:STANDARD
TZOFFSETFROM:-0700
TZOFFSETTO:-0700
TZNAME:MST
DTSTART:20200101T000000
END:STANDARD
END:VTIMEZONE
BEGIN:VEVENT
DTSTART;TZID=America/Phoenix:20210601T080000
DTEND;TZID=America/Phoenix:20210601T153000
DTSTAMP:20260423T044037
CREATED:20210115T113258Z
LAST-MODIFIED:20210429T160316Z
UID:19523-1622534400-1622561400@www.acteaz.org
SUMMARY:Effective Demonstrations
DESCRIPTION:Whether in a welding lab or a bioscience lab\, effective demonstrations are crucial. In this course\, teachers will engage in the four-step demonstration method\, which gradually transitions the learning of a new skill from teacher to student\, through effective modeling\, guided instruction and independent practice. If done correctly every student can successfully perform the new skill with little or no frustration\, without wasted materials\, and attain proficiency in a way that will ensure the whole class progresses at an appropriate pace. An added bonus is that students complete the new skill in a safe and supportive environment. Come and learn this four-part demonstration method! \n\nInstructor:  Curt Bertelsen\nFor: All CTE Teachers\nADE Credit Available:  Yes\nOne Semester Hour (SH) Credit\nSatisfies Professional Knowledge\n(PK) deficiencies\n\n\nCourse Length: 1 day + homework\n\n\nSpring 2021 This course has no spring dates\nSummer 2021\n\n\n\n\nDates:\nJune 1\, 2021\n(One-day + homework)\n\n\n\nTime: 8:00 a.m. – 3:30 p.m. each day with a 30-minute lunch
URL:https://www.acteaz.org/courses/effective-demonstrations/
LOCATION:Online via Zoom
CATEGORIES:Effective Demonstrations
END:VEVENT
END:VCALENDAR