BEGIN:VCALENDAR
VERSION:2.0
PRODID:-//ACTEAZ - ECPv6.15.20//NONSGML v1.0//EN
CALSCALE:GREGORIAN
METHOD:PUBLISH
X-ORIGINAL-URL:https://www.acteaz.org
X-WR-CALDESC:Events for ACTEAZ
REFRESH-INTERVAL;VALUE=DURATION:PT1H
X-Robots-Tag:noindex
X-PUBLISHED-TTL:PT1H
BEGIN:VTIMEZONE
TZID:America/Phoenix
BEGIN:STANDARD
TZOFFSETFROM:-0700
TZOFFSETTO:-0700
TZNAME:MST
DTSTART:20200101T000000
END:STANDARD
END:VTIMEZONE
BEGIN:VEVENT
DTSTART;TZID=America/Phoenix:20210322T160000
DTEND;TZID=America/Phoenix:20210322T180000
DTSTAMP:20260423T091110
CREATED:20210204T155232Z
LAST-MODIFIED:20210429T160316Z
UID:19671-1616428800-1616436000@www.acteaz.org
SUMMARY:Effective Demos
DESCRIPTION:
URL:https://www.acteaz.org/courses/effective-demos/2021-03-22/
LOCATION:Online via Zoom
CATEGORIES:Effective Demonstrations
END:VEVENT
END:VCALENDAR