BEGIN:VCALENDAR
VERSION:2.0
PRODID:-//ACTEAZ - ECPv6.15.20//NONSGML v1.0//EN
CALSCALE:GREGORIAN
METHOD:PUBLISH
X-WR-CALNAME:ACTEAZ
X-ORIGINAL-URL:https://www.acteaz.org
X-WR-CALDESC:Events for ACTEAZ
REFRESH-INTERVAL;VALUE=DURATION:PT1H
X-Robots-Tag:noindex
X-PUBLISHED-TTL:PT1H
BEGIN:VTIMEZONE
TZID:America/Phoenix
BEGIN:STANDARD
TZOFFSETFROM:-0700
TZOFFSETTO:-0700
TZNAME:MST
DTSTART:20230101T000000
END:STANDARD
END:VTIMEZONE
BEGIN:VEVENT
DTSTART;TZID=America/Phoenix:20240606T080000
DTEND;TZID=America/Phoenix:20240606T153000
DTSTAMP:20260419T065114
CREATED:20231103T222433Z
LAST-MODIFIED:20231103T222433Z
UID:24461-1717660800-1717687800@www.acteaz.org
SUMMARY:Effective Demonstrations
DESCRIPTION:Whether in a welding lab or a bioscience lab\, effective demonstrations are crucial. If done correctly\, every student can successfully perform the new skill with little or no frustration\, without wasted materials\, and attain proficiency in a way that will ensure the whole class progresses at an appropriate pace. This is a real career extender! When you are successful in the lab\, and the students are successful in the lab\, teaching can be very rewarding. An added bonus is that students complete the new skill in a safe environment. Come and learn this four-part demonstration method. \nADE Credit Available: Yes – 1 Semester Hour (SH) Credit\, Satisfies Professional Knowledge (PK) deficiencies \nCourse Length: 1 day + homework \nDate: June 6\, 2024 \nTime:  8:00 a.m. – 3:30 p.m. \nLocation:\nPima JTED @ Master Pieces\nBuilding 1 – PD Classroom\n2855 W Master Pieces Drive\nTucson\, Arizona 85741 \nLink: https://infohub.pimajted.org/login?&page=%2Fmain%2F \nIf you do not have a Pima JTED account\, please contact Mary Andrade at mandrade@pimajted.org or (520) 256-4169.
URL:https://www.acteaz.org/courses/effective-demonstrations-14-2/
LOCATION:Pima JTED @ Master Pieces\, 2855 W. Master Pieces Dr.\, Tucson\, AZ\, 85741\, United States
CATEGORIES:Effective Demonstrations
END:VEVENT
END:VCALENDAR