BEGIN:VCALENDAR
VERSION:2.0
PRODID:-//ACTEAZ - ECPv6.15.20//NONSGML v1.0//EN
CALSCALE:GREGORIAN
METHOD:PUBLISH
X-WR-CALNAME:ACTEAZ
X-ORIGINAL-URL:https://www.acteaz.org
X-WR-CALDESC:Events for ACTEAZ
REFRESH-INTERVAL;VALUE=DURATION:PT1H
X-Robots-Tag:noindex
X-PUBLISHED-TTL:PT1H
BEGIN:VTIMEZONE
TZID:America/Phoenix
BEGIN:STANDARD
TZOFFSETFROM:-0700
TZOFFSETTO:-0700
TZNAME:MST
DTSTART:20200101T000000
END:STANDARD
END:VTIMEZONE
BEGIN:VEVENT
DTSTART;TZID=America/Phoenix:20211202T080000
DTEND;TZID=America/Phoenix:20211202T153000
DTSTAMP:20260422T153103
CREATED:20210526T184509Z
LAST-MODIFIED:20210526T184509Z
UID:20103-1638432000-1638459000@www.acteaz.org
SUMMARY:Effective Classroom Teaching
DESCRIPTION:Would you like to improve your classroom delivery? This course will focus on the six basic components of a lesson and how to effectively deliver the lesson. During the class a demonstration lesson will be taught by the participant and observed by a coach. The coach will guide the teacher by debriefing the lesson and assisting the teacher in setting future goals.  Each participant will have planning time\, teach a lesson and have the opportunity to be coached. Join us for a safe place to hone your skills.
URL:https://www.acteaz.org/courses/effective-classroom-teaching-2/2021-12-02/
LOCATION:Online via Zoom
CATEGORIES:Effective Classroom Teaching
END:VEVENT
END:VCALENDAR