BEGIN:VCALENDAR
VERSION:2.0
PRODID:-//ACTEAZ - ECPv6.15.20//NONSGML v1.0//EN
CALSCALE:GREGORIAN
METHOD:PUBLISH
X-WR-CALNAME:ACTEAZ
X-ORIGINAL-URL:https://www.acteaz.org
X-WR-CALDESC:Events for ACTEAZ
REFRESH-INTERVAL;VALUE=DURATION:PT1H
X-Robots-Tag:noindex
X-PUBLISHED-TTL:PT1H
BEGIN:VTIMEZONE
TZID:America/Phoenix
BEGIN:STANDARD
TZOFFSETFROM:-0700
TZOFFSETTO:-0700
TZNAME:MST
DTSTART:20210101T000000
END:STANDARD
END:VTIMEZONE
BEGIN:VEVENT
DTSTART;VALUE=DATE:20220602
DTEND;VALUE=DATE:20220604
DTSTAMP:20260422T002407
CREATED:20211217T185845Z
LAST-MODIFIED:20220321T200940Z
UID:21464-1654128000-1654300799@www.acteaz.org
SUMMARY:Effective Classroom Teaching
DESCRIPTION:Would you like to improve your classroom delivery? This course will focus on the six basic components of a lesson and how to effectively deliver the lesson. During the class a demonstration lesson will be taught by the participant and observed by a coach. The coach will guide the teacher by debriefing the lesson and assisting the teacher in setting future goals. Each participant will have planning time\, teach a lesson and have the opportunity to be coached. Join us for a safe place to hone your skills. \nYou will receive 1 ADE credit after attending both days of class. \nLocation:\nZoom – Upon registration\, you will receive an email with the link to join the Zoom meeting. \nLink: https://infohub.pimajted.org/events/155\nIf you do not have a Pima JTED account\, please contact Mary Andrade at mandrade@pimajted.org or (520) 256-4169. \nDate: June 2-3\, 2022 \nTime: 8:00 a.m. – 3:30 p.m. \nCost: Pima JTED teacher – no cost\nTeachers outside Pima JTED – $100
URL:https://www.acteaz.org/courses/effective-classroom-teaching-6/
LOCATION:Online via Zoom
CATEGORIES:Effective Classroom Teaching
END:VEVENT
END:VCALENDAR