BEGIN:VCALENDAR
VERSION:2.0
PRODID:-//ACTEAZ - ECPv6.15.20//NONSGML v1.0//EN
CALSCALE:GREGORIAN
METHOD:PUBLISH
X-WR-CALNAME:ACTEAZ
X-ORIGINAL-URL:https://www.acteaz.org
X-WR-CALDESC:Events for ACTEAZ
REFRESH-INTERVAL;VALUE=DURATION:PT1H
X-Robots-Tag:noindex
X-PUBLISHED-TTL:PT1H
BEGIN:VTIMEZONE
TZID:America/Phoenix
BEGIN:STANDARD
TZOFFSETFROM:-0700
TZOFFSETTO:-0700
TZNAME:MST
DTSTART:20200101T000000
END:STANDARD
END:VTIMEZONE
BEGIN:VEVENT
DTSTART;TZID=America/Phoenix:20210602T080000
DTEND;TZID=America/Phoenix:20210602T153000
DTSTAMP:20260422T233918
CREATED:20210115T114241Z
LAST-MODIFIED:20210429T160316Z
UID:19526-1622620800-1622647800@www.acteaz.org
SUMMARY:Effective Classroom Teaching
DESCRIPTION:Would you like to improve your classroom delivery? This course will focus on the six basic components of a lesson\, and how to effectively deliver the lesson. During the class\, a demonstration lesson will be taught by the participant and observed by a coach. The coach will guide the teacher by debriefing the lesson and assisting the teacher in setting future goals. Each participant will have planning time\, teach a lesson and have the opportunity to be coached. Join us for a safe place to hone your skills. \n\nInstructor:  Lee Jessen\nFor: All CTE Teachers\nADE Credit Available:  Yes\nOne Semester Hour (SH) Credit\nSatisfies Professional Knowledge\n(PK) deficiencies\n\n\nCourse Length: 2 days no homework\n\n\nSpring 2021 This course has no spring dates\nSummer 2021\n\n\n\n\nDates:\nJune 2-3\, 2021\n(Two-day course)\n\n\n\nTime: 8:00 a.m. – 3:30 p.m. each day with a 30-minute lunch
URL:https://www.acteaz.org/courses/effective-classroom-teaching-3/2021-06-02/
LOCATION:Online via Zoom
CATEGORIES:Effective Classroom Teaching
END:VEVENT
END:VCALENDAR