BEGIN:VCALENDAR
VERSION:2.0
PRODID:-//ACTEAZ - ECPv6.15.20//NONSGML v1.0//EN
CALSCALE:GREGORIAN
METHOD:PUBLISH
X-ORIGINAL-URL:https://www.acteaz.org
X-WR-CALDESC:Events for ACTEAZ
REFRESH-INTERVAL;VALUE=DURATION:PT1H
X-Robots-Tag:noindex
X-PUBLISHED-TTL:PT1H
BEGIN:VTIMEZONE
TZID:America/Phoenix
BEGIN:STANDARD
TZOFFSETFROM:-0700
TZOFFSETTO:-0700
TZNAME:MST
DTSTART:20200101T000000
END:STANDARD
END:VTIMEZONE
BEGIN:VEVENT
DTSTART;TZID=America/Phoenix:20210126T080000
DTEND;TZID=America/Phoenix:20210126T153000
DTSTAMP:20260421T083943
CREATED:20201221T132943Z
LAST-MODIFIED:20210429T160317Z
UID:16995-1611648000-1611675000@www.acteaz.org
SUMMARY:CTE Essentials
DESCRIPTION:The CTE Delivery Model is THE premier educational system for all students. CTE Essentials will give you an overview of each of the four components of this outstanding model\, and allow you time to process how you can incorporate each element into all of your instructional units as you plan your program’s calendar.  It will also provide some insight into the many roles a CTE teacher plays in the course of any school day\, where to find support to meet those expectations\, and how to transition between each of them.  CTE Essentials is a truly necessary course for the teacher who is looking to build a strong program for students. \n\nInstructor:  Bertelsen and Kimberly McCroy\nFor: All CTE Teachers\nADE Credit Available:  Yes\nOne Semester Hour (SH) Credit\nSatisfies Professional Knowledge\n(PK) deficiencies\n\n\nCourse Length: 1 day + homework\n\n\nSpring 2021\n\n\n\n\nDates:\nJanuary 26\, 2021\n(One-day + homework)\n\n\n\n\nSummer 2021\n\n\n\n\nDates:\nJune 11\, 2021\n(One-day + homework)\n\n\n\nTime: 8:00 a.m. – 3:30 p.m. each day with a 30-minute lunch
URL:https://www.acteaz.org/courses/cte-essentials-3/2021-01-26/
LOCATION:Online via Zoom
CATEGORIES:CTE Essentials
END:VEVENT
END:VCALENDAR